BEGIN:VCALENDAR
VERSION:2.0
PRODID:icalendar-ruby
CALSCALE:GREGORIAN
METHOD:PUBLISH
BEGIN:VEVENT
DTSTAMP:20260423T160513Z
UID:12-537030@atthetab.com
DTSTART:20260709T020000Z
DTEND:20260709T030000Z
CLASS:PUBLIC
CREATED:20260423T064059
DESCRIPTION:Wednesday Evending Worship Service
LAST-MODIFIED:20260423T064059
LOCATION:
SUMMARY:Wednesday Evending Worship Service
URL;VALUE=URI:https://www.thetabcgma.com/events/wednesday-evending-worship-
 service/2026-07-08
END:VEVENT
END:VCALENDAR
