BEGIN:VCALENDAR
VERSION:2.0
PRODID:icalendar-ruby
CALSCALE:GREGORIAN
METHOD:PUBLISH
BEGIN:VEVENT
DTSTAMP:20260423T190630Z
UID:12-537316@atthetab.com
DTSTART:20260723T020000Z
DTEND:20260723T030000Z
CLASS:PUBLIC
CREATED:20260423T093407
DESCRIPTION:Wednesday Evending Worship Service
LAST-MODIFIED:20260423T093407
LOCATION:
SUMMARY:Wednesday Evending Worship Service
URL;VALUE=URI:https://www.thetabcgma.com/events/wednesday-evending-worship-
 service/2026-07-22
END:VEVENT
END:VCALENDAR
