BEGIN:VCALENDAR
VERSION:2.0
PRODID:icalendar-ruby
CALSCALE:GREGORIAN
METHOD:PUBLISH
BEGIN:VEVENT
DTSTAMP:20260423T221651Z
UID:12-537602@atthetab.com
DTSTART:20260806T020000Z
DTEND:20260806T030000Z
CLASS:PUBLIC
CREATED:20260423T123111
DESCRIPTION:Wednesday Evending Worship Service
LAST-MODIFIED:20260423T123111
LOCATION:
SUMMARY:Wednesday Evending Worship Service
URL;VALUE=URI:https://www.thetabcgma.com/events/wednesday-evending-worship-
 service/2026-08-05
END:VEVENT
END:VCALENDAR
