BEGIN:VCALENDAR
VERSION:2.0
PRODID:icalendar-ruby
CALSCALE:GREGORIAN
METHOD:PUBLISH
BEGIN:VEVENT
DTSTAMP:20260423T234904Z
UID:12-537887@atthetab.com
DTSTART:20260813T020000Z
DTEND:20260813T030000Z
CLASS:PUBLIC
CREATED:20260423T152523
DESCRIPTION:Wednesday Evending Worship Service
LAST-MODIFIED:20260423T152523
LOCATION:
SUMMARY:Wednesday Evending Worship Service
URL;VALUE=URI:https://www.thetabcgma.com/events/wednesday-evending-worship-
 service/2026-08-12
END:VEVENT
END:VCALENDAR
