BEGIN:VCALENDAR
VERSION:2.0
PRODID:icalendar-ruby
CALSCALE:GREGORIAN
METHOD:PUBLISH
BEGIN:VEVENT
DTSTAMP:20260424T071243Z
UID:12-538176@atthetab.com
DTSTART:20260917T020000Z
DTEND:20260917T030000Z
CLASS:PUBLIC
CREATED:20260423T181833
DESCRIPTION:Wednesday Evending Worship Service
LAST-MODIFIED:20260423T181833
LOCATION:
SUMMARY:Wednesday Evending Worship Service
URL;VALUE=URI:https://www.thetabcgma.com/events/wednesday-evending-worship-
 service/2026-09-16
END:VEVENT
END:VCALENDAR
