BEGIN:VCALENDAR
VERSION:2.0
PRODID:icalendar-ruby
CALSCALE:GREGORIAN
METHOD:PUBLISH
BEGIN:VEVENT
DTSTAMP:20260424T132047Z
UID:12-538464@atthetab.com
DTSTART:20261015T020000Z
DTEND:20261015T030000Z
CLASS:PUBLIC
CREATED:20260424T034614
DESCRIPTION:Wednesday Evending Worship Service
LAST-MODIFIED:20260424T034614
LOCATION:
SUMMARY:Wednesday Evending Worship Service
URL;VALUE=URI:https://www.thetabcgma.com/events/wednesday-evending-worship-
 service/2026-10-14
END:VEVENT
END:VCALENDAR
