BEGIN:VCALENDAR
VERSION:2.0
PRODID:icalendar-ruby
CALSCALE:GREGORIAN
METHOD:PUBLISH
BEGIN:VEVENT
DTSTAMP:20260424T145250Z
UID:12-538749@atthetab.com
DTSTART:20261022T020000Z
DTEND:20261022T030000Z
CLASS:PUBLIC
CREATED:20260424T064047
DESCRIPTION:Wednesday Evending Worship Service
LAST-MODIFIED:20260424T064047
LOCATION:
SUMMARY:Wednesday Evending Worship Service
URL;VALUE=URI:https://www.thetabcgma.com/events/wednesday-evending-worship-
 service/2026-10-21
END:VEVENT
END:VCALENDAR
