BEGIN:VCALENDAR
VERSION:2.0
PRODID:icalendar-ruby
CALSCALE:GREGORIAN
METHOD:PUBLISH
BEGIN:VEVENT
DTSTAMP:20260424T175207Z
UID:12-539035@atthetab.com
DTSTART:20261105T030000Z
DTEND:20261105T040000Z
CLASS:PUBLIC
CREATED:20260424T093128
DESCRIPTION:Wednesday Evending Worship Service
LAST-MODIFIED:20260424T093128
LOCATION:
SUMMARY:Wednesday Evending Worship Service
URL;VALUE=URI:https://www.thetabcgma.com/events/wednesday-evending-worship-
 service/2026-11-04
END:VEVENT
END:VCALENDAR
