BEGIN:VCALENDAR
VERSION:2.0
PRODID:icalendar-ruby
CALSCALE:GREGORIAN
METHOD:PUBLISH
BEGIN:VEVENT
DTSTAMP:20260420T025446Z
UID:11-530967@atthetab.com
DTSTART:20260730T013000Z
DTEND:20260730T023000Z
CLASS:PUBLIC
CREATED:20260419T184625
DESCRIPTION:Wensday Evening Youth Service
LAST-MODIFIED:20260419T184625
LOCATION:
SUMMARY:Wednesday Evening Youth Service
URL;VALUE=URI:https://www.thetabcgma.com/events/wednesday-evening-youth-ser
 vice/2026-07-29
END:VEVENT
END:VCALENDAR
