BEGIN:VCALENDAR
VERSION:2.0
PRODID:icalendar-ruby
CALSCALE:GREGORIAN
METHOD:PUBLISH
BEGIN:VEVENT
DTSTAMP:20260420T055850Z
UID:11-531251@atthetab.com
DTSTART:20260813T013000Z
DTEND:20260813T023000Z
CLASS:PUBLIC
CREATED:20260419T222328
DESCRIPTION:Wensday Evening Youth Service
LAST-MODIFIED:20260419T222328
LOCATION:
SUMMARY:Wednesday Evening Youth Service
URL;VALUE=URI:https://www.thetabcgma.com/events/wednesday-evening-youth-ser
 vice/2026-08-12
END:VEVENT
END:VCALENDAR
