BEGIN:VCALENDAR
VERSION:2.0
PRODID:icalendar-ruby
CALSCALE:GREGORIAN
METHOD:PUBLISH
BEGIN:VEVENT
DTSTAMP:20260424T083154Z
UID:11-538031@atthetab.com
DTSTART:20260827T013000Z
DTEND:20260827T023000Z
CLASS:PUBLIC
CREATED:20260423T181832
DESCRIPTION:Wensday Evening Youth Service
LAST-MODIFIED:20260423T181832
LOCATION:
SUMMARY:Wednesday Evening Youth Service
URL;VALUE=URI:https://www.thetabcgma.com/events/wednesday-evening-youth-ser
 vice/2026-08-26
END:VEVENT
END:VCALENDAR
