BEGIN:VCALENDAR
VERSION:2.0
PRODID:icalendar-ruby
CALSCALE:GREGORIAN
METHOD:PUBLISH
BEGIN:VEVENT
DTSTAMP:20260424T095646Z
UID:11-538032@atthetab.com
DTSTART:20260903T013000Z
DTEND:20260903T023000Z
CLASS:PUBLIC
CREATED:20260423T181832
DESCRIPTION:Wensday Evening Youth Service
LAST-MODIFIED:20260423T181832
LOCATION:
SUMMARY:Wednesday Evening Youth Service
URL;VALUE=URI:https://www.thetabcgma.com/events/wednesday-evening-youth-ser
 vice/2026-09-02
END:VEVENT
END:VCALENDAR
