BEGIN:VCALENDAR
VERSION:2.0
PRODID:icalendar-ruby
CALSCALE:GREGORIAN
METHOD:PUBLISH
BEGIN:VEVENT
DTSTAMP:20260424T112547Z
UID:11-538317@atthetab.com
DTSTART:20260910T013000Z
DTEND:20260910T023000Z
CLASS:PUBLIC
CREATED:20260424T034614
DESCRIPTION:Wensday Evening Youth Service
LAST-MODIFIED:20260424T034614
LOCATION:
SUMMARY:Wednesday Evening Youth Service
URL;VALUE=URI:https://www.thetabcgma.com/events/wednesday-evening-youth-ser
 vice/2026-09-09
END:VEVENT
END:VCALENDAR
