BEGIN:VCALENDAR
VERSION:2.0
PRODID:icalendar-ruby
CALSCALE:GREGORIAN
METHOD:PUBLISH
BEGIN:VEVENT
DTSTAMP:20260424T182540Z
UID:11-538887@atthetab.com
DTSTART:20260924T013000Z
DTEND:20260924T023000Z
CLASS:PUBLIC
CREATED:20260424T093128
DESCRIPTION:Wensday Evening Youth Service
LAST-MODIFIED:20260424T093128
LOCATION:
SUMMARY:Wednesday Evening Youth Service
URL;VALUE=URI:https://www.thetabcgma.com/events/wednesday-evening-youth-ser
 vice/2026-09-23
END:VEVENT
END:VCALENDAR
