BEGIN:VCALENDAR
VERSION:2.0
PRODID:icalendar-ruby
CALSCALE:GREGORIAN
METHOD:PUBLISH
BEGIN:VEVENT
DTSTAMP:20260424T200953Z
UID:11-539172@atthetab.com
DTSTART:20261001T013000Z
DTEND:20261001T023000Z
CLASS:PUBLIC
CREATED:20260424T121723
DESCRIPTION:Wensday Evening Youth Service
LAST-MODIFIED:20260424T121723
LOCATION:
SUMMARY:Wednesday Evening Youth Service
URL;VALUE=URI:https://www.thetabcgma.com/events/wednesday-evening-youth-ser
 vice/2026-09-30
END:VEVENT
END:VCALENDAR
