BEGIN:VCALENDAR
VERSION:2.0
PRODID:icalendar-ruby
CALSCALE:GREGORIAN
METHOD:PUBLISH
BEGIN:VEVENT
DTSTAMP:20260424T215615Z
UID:11-539173@atthetab.com
DTSTART:20261008T013000Z
DTEND:20261008T023000Z
CLASS:PUBLIC
CREATED:20260424T121723
DESCRIPTION:Wensday Evening Youth Service
LAST-MODIFIED:20260424T121723
LOCATION:
SUMMARY:Wednesday Evening Youth Service
URL;VALUE=URI:https://www.thetabcgma.com/events/wednesday-evening-youth-ser
 vice/2026-10-07
END:VEVENT
END:VCALENDAR
