BEGIN:VCALENDAR
VERSION:2.0
PRODID:icalendar-ruby
CALSCALE:GREGORIAN
METHOD:PUBLISH
BEGIN:VEVENT
DTSTAMP:20260424T233613Z
UID:11-539458@atthetab.com
DTSTART:20261015T013000Z
DTEND:20261015T023000Z
CLASS:PUBLIC
CREATED:20260424T150517
DESCRIPTION:Wensday Evening Youth Service
LAST-MODIFIED:20260424T150517
LOCATION:
SUMMARY:Wednesday Evening Youth Service
URL;VALUE=URI:https://www.thetabcgma.com/events/wednesday-evening-youth-ser
 vice/2026-10-14
END:VEVENT
END:VCALENDAR
