BEGIN:VCALENDAR
VERSION:2.0
PRODID:icalendar-ruby
CALSCALE:GREGORIAN
METHOD:PUBLISH
BEGIN:VEVENT
DTSTAMP:20260425T025932Z
UID:11-539744@atthetab.com
DTSTART:20261029T013000Z
DTEND:20261029T023000Z
CLASS:PUBLIC
CREATED:20260424T175316
DESCRIPTION:Wensday Evening Youth Service
LAST-MODIFIED:20260424T175316
LOCATION:
SUMMARY:Wednesday Evening Youth Service
URL;VALUE=URI:https://www.thetabcgma.com/events/wednesday-evening-youth-ser
 vice/2026-10-28
END:VEVENT
END:VCALENDAR
